BEGIN:VCALENDAR
VERSION:2.0
PRODID:SchoolNow
CALSCALE:GREGORIAN
BEGIN:VEVENT
UID:636f284a-2c64-11f1-b498-0a58a9feac02
DTSTAMP:20260420T070010Z
SUMMARY:No School - Unused Snow Day
URL;VALUE=URI:https://www.uticaschools.org/schools/jefferson/calendar/89579
 25/no-school-unused-snow-day
DTSTART;VALUE=DATE:20260413
DTEND;VALUE=DATE:20260414
END:VEVENT
END:VCALENDAR
