BEGIN:VCALENDAR
VERSION:2.0
PRODID:SchoolNow
CALSCALE:GREGORIAN
BEGIN:VEVENT
UID:8119482c-2a33-11f1-807f-0affd406fe2b
DTSTAMP:20260420T070010Z
SUMMARY:Marking Period 3 Ends
URL;VALUE=URI:https://www.uticaschools.org/schools/jefferson/calendar/89507
 98/marking-period-3-ends
DTSTART;VALUE=DATE:20260417
DTEND;VALUE=DATE:20260418
END:VEVENT
END:VCALENDAR
