BEGIN:VCALENDAR
VERSION:2.0
PRODID:SchoolNow
CALSCALE:GREGORIAN
BEGIN:VEVENT
UID:fc0e32ea-217d-11f1-bf4c-0a58a9feac02
DTSTAMP:20260330T195547Z
SUMMARY:AP African American Studies Exam
URL;VALUE=URI:https://www.uticaschools.org/departments/guidance-counseling-
 services/calendar/8923029/ap-african-american-studies-exam
DTSTART:20260507T160000Z
DTEND:20260507T190000Z
END:VEVENT
END:VCALENDAR
