BEGIN:VCALENDAR
VERSION:2.0
PRODID:SchoolNow
CALSCALE:GREGORIAN
BEGIN:VEVENT
UID:2479da10-1f1a-11f1-ad9c-0a58a9feac02
DTSTAMP:20260330T195547Z
SUMMARY:US History REGENTS EXAM
URL;VALUE=URI:https://www.uticaschools.org/departments/guidance-counseling-
 services/calendar/8915527/us-history-regents-exam
DTSTART:20260623T120000Z
DTEND:20260623T140000Z
END:VEVENT
END:VCALENDAR
