BEGIN:VCALENDAR
VERSION:2.0
PRODID:SchoolNow
CALSCALE:GREGORIAN
BEGIN:VEVENT
UID:36371bd2-dd8f-11ef-9129-0e956362e35d
DTSTAMP:20250128T154743Z
SUMMARY:Girls (JFK) 7th/8th Basketball @ Central Valley Academy (White)
LOCATION:Gregory B. Jarvis Middle School gym
URL;VALUE=URI:https://www.uticaschools.org/departments/athletics/calendar/7
 388101/girls-jfk-7th-8th-basketball-central-valley-academy-white
DTSTART:20250106T210000Z
DTEND:20250106T220000Z
END:VEVENT
END:VCALENDAR
