BEGIN:VCALENDAR
VERSION:2.0
PRODID:SchoolNow
CALSCALE:GREGORIAN
BEGIN:VEVENT
UID:32c56ee0-dd8f-11ef-91e9-0e956362e35d
DTSTAMP:20250128T154737Z
SUMMARY:(B) JV Volleyball - Practice (3:00 PM)
LOCATION:PHS AUX Gym (Volleyball gym)
URL;VALUE=URI:https://www.uticaschools.org/departments/athletics/calendar/7
 387428/b-jv-volleyball-practice-3-00-pm
DTSTART:20250131T200000Z
DTEND:20250131T213000Z
END:VEVENT
END:VCALENDAR
