BEGIN:VCALENDAR
VERSION:2.0
PRODID:SchoolNow
CALSCALE:GREGORIAN
BEGIN:VEVENT
UID:317b3a6a-dd8f-11ef-89a8-0e956362e35d
DTSTAMP:20250128T154735Z
SUMMARY:(G) 7/8TH Basketball (DMS) v. (G) 7/8TH Basketball (JFK) @ Utica Pr
 octor
LOCATION:PHS Main Gym
URL;VALUE=URI:https://www.uticaschools.org/departments/athletics/calendar/7
 387042/g-7-8th-basketball-dms-v-g-7-8th-basketball-jfk-utica-proctor
DTSTART:20250127T210000Z
DTEND:20250127T220000Z
END:VEVENT
END:VCALENDAR
