BEGIN:VCALENDAR
VERSION:2.0
PRODID:SchoolNow
CALSCALE:GREGORIAN
BEGIN:VEVENT
UID:2e8d5cd4-dd8f-11ef-80c2-0e956362e35d
DTSTAMP:20250128T154730Z
SUMMARY:Girls (Co-ed Fall) Varsity Cheerleading @ Liverpool (Winter Cheer)
LOCATION:LIVERPOOL HS STADIUM
URL;VALUE=URI:https://www.uticaschools.org/departments/athletics/calendar/7
 386421/girls-co-ed-fall-varsity-cheerleading-liverpool-winter-cheer
DTSTART:20241026T160000Z
DTEND:20241026T170000Z
END:VEVENT
END:VCALENDAR
